BEGIN:VCALENDAR
VERSION:2.0
PRODID:-//BOHOGS - ECPv6.15.12.2//NONSGML v1.0//EN
CALSCALE:GREGORIAN
METHOD:PUBLISH
X-ORIGINAL-URL:https://bohogs.org.au
X-WR-CALDESC:Events for BOHOGS
REFRESH-INTERVAL;VALUE=DURATION:PT1H
X-Robots-Tag:noindex
X-PUBLISHED-TTL:PT1H
BEGIN:VTIMEZONE
TZID:Australia/Melbourne
BEGIN:STANDARD
TZOFFSETFROM:+1100
TZOFFSETTO:+1000
TZNAME:AEST
DTSTART:20230401T160000
END:STANDARD
BEGIN:DAYLIGHT
TZOFFSETFROM:+1000
TZOFFSETTO:+1100
TZNAME:AEDT
DTSTART:20230930T160000
END:DAYLIGHT
BEGIN:STANDARD
TZOFFSETFROM:+1100
TZOFFSETTO:+1000
TZNAME:AEST
DTSTART:20240406T160000
END:STANDARD
BEGIN:DAYLIGHT
TZOFFSETFROM:+1000
TZOFFSETTO:+1100
TZNAME:AEDT
DTSTART:20241005T160000
END:DAYLIGHT
BEGIN:STANDARD
TZOFFSETFROM:+1100
TZOFFSETTO:+1000
TZNAME:AEST
DTSTART:20250405T160000
END:STANDARD
BEGIN:DAYLIGHT
TZOFFSETFROM:+1000
TZOFFSETTO:+1100
TZNAME:AEDT
DTSTART:20251004T160000
END:DAYLIGHT
END:VTIMEZONE
BEGIN:VEVENT
DTSTART;TZID=Australia/Melbourne:20241128T133000
DTEND;TZID=Australia/Melbourne:20241128T180000
DTSTAMP:20260425T130815
CREATED:20241104T015452Z
LAST-MODIFIED:20241125T235936Z
UID:3253-1732800600-1732816800@bohogs.org.au
SUMMARY:BOHOGS Technical Forum in Brisbane
DESCRIPTION:BOHOGS will be hosting its AGM and a Technical Forum in Brisbane on Thursday 28th November\, 2024. \nDuring the event BOHOGS will be seeking Expressions of Interest for committee positions in 2025. Please see positions below and contact Gurshaan Virk (gurshaan.virk@bhp.com) if you are interested in applying. \nDate:\nThursday 28th November 2024\nTime: 1:00PM – 6:30PM \nLocation:\nHilton Hotel – Room 83\n190 Elizabeth St\, Brisbane City QLD 4000 \nAgenda: \n\n1:00 PM to 1:30PM – Arrival / Sign in – Tea & Coffee\n1:30 PM to 2:00PM – AGM\n2:00PM to 2:45PM – Stability analysis of structurally-driven failure mechanisms using stereonets and 3D LE methods (Alison McQuillan – Rocscience)\n2:45PM to 3:30PM – “ Why Do we use block search to analyse lowwalls?” (Jiwoo Ahn – Rocscience)\n3:30PM to 4:00PM – Modernised Monitoring in Mine site applications – Tailings / Geotechnical (Neil Cunnington – World Sensing)\n4:00PM to 6:30PM – Networking with sponsors\, finger food and social drinks\n\nRSVP:\nTo RSVP for the event\, please email Gurshaan Virk (gurshaan.virk@bhp.com) before Wednesday 27th of November 2024. \n\n\nRSVP HERE \n\nOnline Meeting Link:\nPlease see the latest BOHOGS email from 26/11/24 for online meeting link details. \nBOHOGS 2025 Committee Positions: \n\nChair\nVice Chair\nSecretary\nTreasurer\nWebmaster\nQLD Representative\nNSW Representative\nSponsor Coordinator\nGeneral Committee\nYoung Member Representative
URL:https://bohogs.org.au/event/bohogs-technical-forum-agm-brisbane/
CATEGORIES:Event
END:VEVENT
END:VCALENDAR