BEGIN:VCALENDAR
VERSION:2.0
PRODID:-//BOHOGS - ECPv6.15.12.2//NONSGML v1.0//EN
CALSCALE:GREGORIAN
METHOD:PUBLISH
X-ORIGINAL-URL:https://bohogs.org.au
X-WR-CALDESC:Events for BOHOGS
REFRESH-INTERVAL;VALUE=DURATION:PT1H
X-Robots-Tag:noindex
X-PUBLISHED-TTL:PT1H
BEGIN:VTIMEZONE
TZID:Australia/Melbourne
BEGIN:STANDARD
TZOFFSETFROM:+1100
TZOFFSETTO:+1000
TZNAME:AEST
DTSTART:20240406T160000
END:STANDARD
BEGIN:DAYLIGHT
TZOFFSETFROM:+1000
TZOFFSETTO:+1100
TZNAME:AEDT
DTSTART:20241005T160000
END:DAYLIGHT
BEGIN:STANDARD
TZOFFSETFROM:+1100
TZOFFSETTO:+1000
TZNAME:AEST
DTSTART:20250405T160000
END:STANDARD
BEGIN:DAYLIGHT
TZOFFSETFROM:+1000
TZOFFSETTO:+1100
TZNAME:AEDT
DTSTART:20251004T160000
END:DAYLIGHT
BEGIN:STANDARD
TZOFFSETFROM:+1100
TZOFFSETTO:+1000
TZNAME:AEST
DTSTART:20260404T160000
END:STANDARD
BEGIN:DAYLIGHT
TZOFFSETFROM:+1000
TZOFFSETTO:+1100
TZNAME:AEDT
DTSTART:20261003T160000
END:DAYLIGHT
END:VTIMEZONE
BEGIN:VEVENT
DTSTART;TZID=Australia/Melbourne:20251016T140000
DTEND;TZID=Australia/Melbourne:20251016T170000
DTSTAMP:20260424T224623
CREATED:20250822T025819Z
LAST-MODIFIED:20250928T223222Z
UID:3410-1760623200-1760634000@bohogs.org.au
SUMMARY:GroundProbe Platinum Plus Sponsor Event & Technical Meeting 2025
DESCRIPTION:GroundProbe is pleased to welcome attendees to the upcoming Platinum Plus Sponsor Event & Technical Meeting on Thursday the 16th October 2025. \nThis event is a chance to catch up with fellow BOHOGS members and see what’s new in geotechnical monitoring. Highlights include a physical demo of the new Series 5 radar\, along with an introduction to the latest SSR software. The program will also feature two case studies featuring Glencore and BMA sites\, plus highlights from GroundProbe’s 2024 Geotechnical Scholarship winners\, Oskar Clare and Josh McBay\, and an update on the 2025 geotechnical scholarship for university students.\n\nDate: Thursday\, 16th October 2025\n2:00 pm – 5:00 pm (doors open from 1:30 pm for refreshments and networking) \nLocation:\nEvent/Meeting:\nOrica Limited\, Level 2\, 38 Southgate Ave\, Cannon Hill QLD 4170\n•    Please do not come to the GroundProbe office as it will be closed for renovations.\nGetting to the location (Orica Cannon Hill) \n\nOn-street parking is limited.\nThe best option is Delsie St\, Cannon Hill (approx. 7 min walk to the venue).\nAlternative options include Taxi/Uber or train (5 min walk from Cannon Hill Station).\n\nDrinks & Dinner:\nIl Modo\, 1B Oxford St\, Bulimba QLD 4171\n•    It is a short drive from the event to the restaurant.\n•    Parking is available under the restaurant.\n•    Paul Davies will organise transport to the restaurant. Please let him know if you need assistance.\n•    After dinner\, the Bulimba City Cat ferry terminal is convenient to the restaurant.\nAgenda: \n\n1:30 pm – 2:00 pm – Open to networking and refreshments.\n2:00 pm – 2:15 pm – Welcome & opening\n2:15 pm – 2:45 pm – Introduction to the Series 5 radar features – Paul Davies\, GroundProbe\n2:45 pm – 3:15 pm – Capabilities of new software – MonitorIQ Next – Charl van Rhyn\, GroundProbe\n3:15 pm – 3:30 pm – Break\n3:30 pm – 4:00 pm – Physical demonstration of the Series 5 radar – George Laugher\, GroundProbe\n4:00 pm – 4:30 pm – SSR Monitoring Case Study at BMA’s R16 at Goonyella Riverside Mine (GRM) – Ebrahim Awaty\, BMA\n4:30 pm – 5:00 pm – Hail Creek (Glencore) SSR-FX and SSR-XT data – Bob Craig\, Glencore\n5:00 pm  – 5:30 pm – Event Close / Wrap-up\n5:30 pm  – 8:00 pm – Networking\, Dinner & Drinks at Il Modo\n\nRSVP:\nTo RSVP for the event\, please email Paul Davis (paul.davies@groundprobe.com) before Tuesday 14th of October 2025. \nPlease also confirm \n\nWill you be attending the event in person\nAttending the dinner after the event\n\n\n\nRSVP for IN PERSON & DINNER \nRSVP for IN PERSON only \n\nOnline Meeting:\nThe Technical Meeting will be available online. An online meeting link will be send to all BOHOGS members (via email) the day before the event.
URL:https://bohogs.org.au/event/bohogs-groundprobe-platinum-plus-sponsor-event-2025/
CATEGORIES:Event
END:VEVENT
END:VCALENDAR