BEGIN:VCALENDAR
VERSION:2.0
PRODID:-//BOHOGS - ECPv6.15.12.2//NONSGML v1.0//EN
CALSCALE:GREGORIAN
METHOD:PUBLISH
X-ORIGINAL-URL:https://bohogs.org.au
X-WR-CALDESC:Events for BOHOGS
REFRESH-INTERVAL;VALUE=DURATION:PT1H
X-Robots-Tag:noindex
X-PUBLISHED-TTL:PT1H
BEGIN:VTIMEZONE
TZID:Australia/Melbourne
BEGIN:STANDARD
TZOFFSETFROM:+1100
TZOFFSETTO:+1000
TZNAME:AEST
DTSTART:20230401T160000
END:STANDARD
BEGIN:DAYLIGHT
TZOFFSETFROM:+1000
TZOFFSETTO:+1100
TZNAME:AEDT
DTSTART:20230930T160000
END:DAYLIGHT
BEGIN:STANDARD
TZOFFSETFROM:+1100
TZOFFSETTO:+1000
TZNAME:AEST
DTSTART:20240406T160000
END:STANDARD
BEGIN:DAYLIGHT
TZOFFSETFROM:+1000
TZOFFSETTO:+1100
TZNAME:AEDT
DTSTART:20241005T160000
END:DAYLIGHT
BEGIN:STANDARD
TZOFFSETFROM:+1100
TZOFFSETTO:+1000
TZNAME:AEST
DTSTART:20250405T160000
END:STANDARD
BEGIN:DAYLIGHT
TZOFFSETFROM:+1000
TZOFFSETTO:+1100
TZNAME:AEDT
DTSTART:20251004T160000
END:DAYLIGHT
END:VTIMEZONE
BEGIN:VEVENT
DTSTART;TZID=Australia/Melbourne:20240620T133000
DTEND;TZID=Australia/Melbourne:20240620T180000
DTSTAMP:20260426T014059
CREATED:20240520T005423Z
LAST-MODIFIED:20240616T230810Z
UID:3048-1718890200-1718906400@bohogs.org.au
SUMMARY:BOHOGS Technical Forum Brisbane (June)
DESCRIPTION:BOHOGS will be hosting a Technical Forum in Brisbane on Thursday the 20th of June\, 2024. \nDate: \nThursday 20th June 2024\nTime: 1:30PM – 7:00 PM \nLocation: \nHilton Hotel – Room 81\n190 Elizabeth St\, Brisbane City QLD 4000 \nAgenda: \n\n1:30 PM to 2:00PM – Arrival / Sign in – Tea & Coffee\n2:00PM to 3:00 PM –  Geotechnical Challenges and Innovations at the Savage River Mine\, Tasmania – 2005 to 2018 (Mathew Widelski – Equilibrium Mining)\n3:00PM to 4:00 PM – 3 New Practical Advancements in Ground Characterisation – Domains\, Block Modelling\, Blind Spots (Michael Munro – GMEK)\n4:00PM  to 7:00 PM – Networking\, finger food and social drinks\n\nRSVP: \nTo RSVP for the event\, please email Kathryn Young (kathryn.young (at) bhp.com) before Tuesday 18th of June 2024. \nOnline Meeting: \nPlease check your email for the Online Meeting Link. \nBOHOGS Sponsors 2024:
URL:https://bohogs.org.au/event/bohogs-technical-forum-brisbane-june/
CATEGORIES:Event
END:VEVENT
END:VCALENDAR