BEGIN:VCALENDAR
VERSION:2.0
PRODID:-//BOHOGS - ECPv6.15.12.2//NONSGML v1.0//EN
CALSCALE:GREGORIAN
METHOD:PUBLISH
X-WR-CALNAME:BOHOGS
X-ORIGINAL-URL:https://bohogs.org.au
X-WR-CALDESC:Events for BOHOGS
REFRESH-INTERVAL;VALUE=DURATION:PT1H
X-Robots-Tag:noindex
X-PUBLISHED-TTL:PT1H
BEGIN:VTIMEZONE
TZID:Australia/Melbourne
BEGIN:STANDARD
TZOFFSETFROM:+1100
TZOFFSETTO:+1000
TZNAME:AEST
DTSTART:20220402T160000
END:STANDARD
BEGIN:DAYLIGHT
TZOFFSETFROM:+1000
TZOFFSETTO:+1100
TZNAME:AEDT
DTSTART:20221001T160000
END:DAYLIGHT
BEGIN:STANDARD
TZOFFSETFROM:+1100
TZOFFSETTO:+1000
TZNAME:AEST
DTSTART:20230401T160000
END:STANDARD
BEGIN:DAYLIGHT
TZOFFSETFROM:+1000
TZOFFSETTO:+1100
TZNAME:AEDT
DTSTART:20230930T160000
END:DAYLIGHT
BEGIN:STANDARD
TZOFFSETFROM:+1100
TZOFFSETTO:+1000
TZNAME:AEST
DTSTART:20240406T160000
END:STANDARD
BEGIN:DAYLIGHT
TZOFFSETFROM:+1000
TZOFFSETTO:+1100
TZNAME:AEDT
DTSTART:20241005T160000
END:DAYLIGHT
END:VTIMEZONE
BEGIN:VEVENT
DTSTART;TZID=Australia/Melbourne:20231026T150000
DTEND;TZID=Australia/Melbourne:20231026T180000
DTSTAMP:20260426T142421
CREATED:20231004T233504Z
LAST-MODIFIED:20231004T233837Z
UID:2818-1698332400-1698343200@bohogs.org.au
SUMMARY:BOHOGS Technical Meeting and Social Event Brisbane – IDS Georadar
DESCRIPTION:BOHOGS will be hosting a Technical Meeting in Brisbane on Thursday the 26th of October 2023 where IDS will be delivering technical presentations on Slope Stability Monitoring and GMEK will be delivering a presentation on Discrete Fracture Networking Analyses and Modelling. \nThe technical meeting will be live streamed for BOHOGS members who cannot attend in person. Live streaming details will be provided closer to the date. \nDate:\nThursday 26th of October\, 2023\n3:00pm – 6:00pm (Followed by a social event) \nLocation:\nIDS Georadar (Hexagon) Brisbane Office\n128 Gerler Road\, Hendra\, QLD 4011 Australia \nAgenda:\n3:00pm – Welcome / Safety Overview / Introductions\n3:15pm – New Technology for 3D Fracture Analyses and Modelling\, Michael Munro (GMEK)\n4:15pm – IDS Georadar – Our Story\, Shan Naude (IDS Georadar)\n4:35pm – Slope Failures in Coal Mines & Radar Insights\, Neal Harries (IDS Georadar)\n5:00pm – Technological Advancements in Slope Stability Monitoring\, Christian Jacobsen (IDS Georadar)\n5:30pm – Workshop Tour\n6:00pm – Wrap up and attend dinner event at Breakfast Creek Hotel: 2 Kingsford Smith Drive\, Albion 4010 \nBOHOGS will provide transport from the IDS Georadar workshop to the Breakfast Creek Hotel. \nRSVP:\nTo RSVP for the event\, please email Sache Aumua (sache.aumua2 (at) bhp.com) before Friday 20th October 2023\, confirming the following:\n1. Whether you will be attending in person or online\n2. If you are attending the social event (for catering purposes) \nOnline Link:\nAn online link to attend the technical presentations will be available closer to the event. \nBOHOGS Sponsors:\nTo become a BOHOGS Sponsor\, please get in contact with a BOHOGS committee member or email us here.
URL:https://bohogs.org.au/event/bohogs-brisbane-technical-meeting-and-social-event-ids-georadar/
CATEGORIES:Event
END:VEVENT
END:VCALENDAR