BEGIN:VCALENDAR
VERSION:2.0
PRODID:-//BOHOGS - ECPv6.15.12.2//NONSGML v1.0//EN
CALSCALE:GREGORIAN
METHOD:PUBLISH
X-ORIGINAL-URL:https://bohogs.org.au
X-WR-CALDESC:Events for BOHOGS
REFRESH-INTERVAL;VALUE=DURATION:PT1H
X-Robots-Tag:noindex
X-PUBLISHED-TTL:PT1H
BEGIN:VTIMEZONE
TZID:Australia/Melbourne
BEGIN:STANDARD
TZOFFSETFROM:+1100
TZOFFSETTO:+1000
TZNAME:AEST
DTSTART:20220402T160000
END:STANDARD
BEGIN:DAYLIGHT
TZOFFSETFROM:+1000
TZOFFSETTO:+1100
TZNAME:AEDT
DTSTART:20221001T160000
END:DAYLIGHT
BEGIN:STANDARD
TZOFFSETFROM:+1100
TZOFFSETTO:+1000
TZNAME:AEST
DTSTART:20230401T160000
END:STANDARD
BEGIN:DAYLIGHT
TZOFFSETFROM:+1000
TZOFFSETTO:+1100
TZNAME:AEDT
DTSTART:20230930T160000
END:DAYLIGHT
BEGIN:STANDARD
TZOFFSETFROM:+1100
TZOFFSETTO:+1000
TZNAME:AEST
DTSTART:20240406T160000
END:STANDARD
BEGIN:DAYLIGHT
TZOFFSETFROM:+1000
TZOFFSETTO:+1100
TZNAME:AEDT
DTSTART:20241005T160000
END:DAYLIGHT
END:VTIMEZONE
BEGIN:VEVENT
DTSTART;TZID=Australia/Melbourne:20231201T120000
DTEND;TZID=Australia/Melbourne:20231201T180000
DTSTAMP:20260426T113555
CREATED:20231106T084655Z
LAST-MODIFIED:20231106T084819Z
UID:2827-1701432000-1701453600@bohogs.org.au
SUMMARY:BOHOGS & BBUGS - End of Year Technical Meeting and Social Event – Brisbane
DESCRIPTION:BBUGS and BOHOGS are joining together for the final event of 2023 on December 1st 2023 in Brisbane. Please join us for presentations by two keynote speakers\, followed by lunch and networking. \n \nBOHOGS Sponsors:\nTo become a BOHOGS Sponsor\, please get in contact with a BOHOGS committee member or email us here.
URL:https://bohogs.org.au/event/bohogs-bbugs-end-of-year-technical-meeting-and-social-event-brisbane/
CATEGORIES:Event
END:VEVENT
END:VCALENDAR