BEGIN:VCALENDAR
VERSION:2.0
PRODID:-//BOHOGS - ECPv6.15.12.2//NONSGML v1.0//EN
CALSCALE:GREGORIAN
METHOD:PUBLISH
X-ORIGINAL-URL:https://bohogs.org.au
X-WR-CALDESC:Events for BOHOGS
REFRESH-INTERVAL;VALUE=DURATION:PT1H
X-Robots-Tag:noindex
X-PUBLISHED-TTL:PT1H
BEGIN:VTIMEZONE
TZID:Australia/Melbourne
BEGIN:STANDARD
TZOFFSETFROM:+1100
TZOFFSETTO:+1000
TZNAME:AEST
DTSTART:20230401T160000
END:STANDARD
BEGIN:DAYLIGHT
TZOFFSETFROM:+1000
TZOFFSETTO:+1100
TZNAME:AEDT
DTSTART:20230930T160000
END:DAYLIGHT
BEGIN:STANDARD
TZOFFSETFROM:+1100
TZOFFSETTO:+1000
TZNAME:AEST
DTSTART:20240406T160000
END:STANDARD
BEGIN:DAYLIGHT
TZOFFSETFROM:+1000
TZOFFSETTO:+1100
TZNAME:AEDT
DTSTART:20241005T160000
END:DAYLIGHT
BEGIN:STANDARD
TZOFFSETFROM:+1100
TZOFFSETTO:+1000
TZNAME:AEST
DTSTART:20250405T160000
END:STANDARD
BEGIN:DAYLIGHT
TZOFFSETFROM:+1000
TZOFFSETTO:+1100
TZNAME:AEDT
DTSTART:20251004T160000
END:DAYLIGHT
END:VTIMEZONE
BEGIN:VEVENT
DTSTART;TZID=Australia/Melbourne:20241022T120000
DTEND;TZID=Australia/Melbourne:20241022T180000
DTSTAMP:20260425T212020
CREATED:20240913T031413Z
LAST-MODIFIED:20241020T235230Z
UID:3185-1729598400-1729620000@bohogs.org.au
SUMMARY:BOHOGS Moranbah Technical Meeting on Geotechnical Issues In Coking Coal Stockpiles
DESCRIPTION:BOHOGS will be hosting a Technical Meeting in Moranbah on Tuesday the 22nd October 2024. Dr John Eckersley will be presenting two sessions on “Geotechnical Issues In Coking Coal Stockpiles” aimed at Geotechnical Engineers\, CHPP Superintendents\, Stockpile Supervisors & Coal Metallurgists. \nPlease forward this event on within your company to CHPP Superintendents\, stockpile supervisors\, CHPP operators and coal metallurgists\, or whoever you’d think would benefit from this event!\nEvent Outline: \nThis will be a 2-session event presented by John Eckersley\, a retired geotechnical engineer\, and author of the ACARP Report on coal stockpiles (C4057 – “Moisture changes & stability problems in coking coal stockpiles”\, June 2000). It will mostly relate to coking coal stockpiles (but not exclusively\, since there is now evidence that washed thermal coal with sufficient fines can suffer similar problems). \nCoal stockpile slips presenting serious risks were first observed at Hay Point in the early 1970s and continued to occur at port stockpiles until at least 1991. Since the early 1980s\, they have become an issue at Coal Preparation Plant (CPP) product stockpiles with a fatality in NSW in 1987\, and significant Bowen Basin slips as recently as 2018. \nDate: \nTuesday 22nd October\, 2024\nTime: 12:00 to 3:00pm (Technical Meeting)\, with social drinks afterwards.\nLight canapes and tea/coffee/soft drinks will be provided prior/during the technical meeting. Social drinks and canapes/refreshments will be provided post meeting conclusion at the bar. \nLocation: \nWestern Heritage Motor Inn\n1-17 Mills Avenue\, Moranbah QLD 4744 \nAgenda: \n\n12:00 – 12:30pm: Registration and welcome\n12:30 – 1:15pm: SESSION 1: CPP Superintendents\, Stockpile Supervisors\, Coal Metallurgists and Geotechnical Engineers\n1:15 – 1:30pm: Questions & discussion\, refreshments\n1:30 – 2:15pm: SESSION 2: Geotechnical Engineers\n2:15 – 2:30pm: Questions & discussion\, refreshments\n2:30pm onwards: social drinks/dinner (be confirmed once finalised)\n\nSession 1: CHPP Superintendents\, Stockpile Supervisors\, Coal Metallurgists and Geotechnical Engineers \nSession 1 will provide a general description of coal stockpile stability issues and their consequences\, and especially sudden large rapidly moving flowslides. It will outline important factors in their formation\, how to identify where they are likely\, and potential risk reduction measures. It is designed for CPP Superintendents\, Stockpile Supervisors\, Coal Metallurgists and Geotechnical Engineers. \nSession 2: Geotechnical Engineers \nSession 2 will build on the information introduced in the first\, with more technical description of factors that contribute to stockpile instability. It will discuss the data needed for meaningful analyses of moisture movements and stockpile slope stability\, what is currently known\, and aspects that require more investigation. It is primarily designed for Geotechnical Engineers\, although others may also benefit. \nRSVP: \nTo RSVP for the event\, please email Dan Payne (dan.payne@bhp.com) before Friday 18th of October 2024. You can directly email Dan or use the buttons below. \nPlease also confirm: \n\nWill you be attending the event in person or online\nWill you be attending social drinks/dinner\n\n\n\n\nRSVP for IN PERSON & DINNER \nRSVP for IN PERSON only \nRSVP for ONLINE \n\n\nOnline Meeting:\nThe Technical Meeting will be available online. An online meeting link will be send to all BOHOGS members and RSVP recipients the day before the event. \nThe Presenter: \nJohn Eckersley spent the first 3½ years of his career as geotechnical engineer at Goonyella Mine\, returning to James Cook University in late 1980 to complete PhD study. He then spent 17 years lecturing in civil and geotechnical engineering while also researching coal stockpile stability and moisture issues. John left JCU in early 1998 and spent the remainder of his career in geotechnical consulting\, working for Coffey (1998 – 2017) and then AECOM (2017 – April 2019). Since retiring he has attempted to tidy up some unfinished business in our ability to conduct meaningful seepage and stability analyses of coal stockpiles. This work was published in three papers in Australian Geomechanics in 2022 and 2023.
URL:https://bohogs.org.au/event/bohogs-moranbah-technical-meeting-on-geotechnical-issues-in-coking-coal-stockpiles/
CATEGORIES:Event
END:VEVENT
END:VCALENDAR