BEGIN:VCALENDAR
VERSION:2.0
PRODID:-//BOHOGS - ECPv6.15.12.2//NONSGML v1.0//EN
CALSCALE:GREGORIAN
METHOD:PUBLISH
X-ORIGINAL-URL:https://bohogs.org.au
X-WR-CALDESC:Events for BOHOGS
REFRESH-INTERVAL;VALUE=DURATION:PT1H
X-Robots-Tag:noindex
X-PUBLISHED-TTL:PT1H
BEGIN:VTIMEZONE
TZID:Australia/Melbourne
BEGIN:STANDARD
TZOFFSETFROM:+1100
TZOFFSETTO:+1000
TZNAME:AEST
DTSTART:20240406T160000
END:STANDARD
BEGIN:DAYLIGHT
TZOFFSETFROM:+1000
TZOFFSETTO:+1100
TZNAME:AEDT
DTSTART:20241005T160000
END:DAYLIGHT
BEGIN:STANDARD
TZOFFSETFROM:+1100
TZOFFSETTO:+1000
TZNAME:AEST
DTSTART:20250405T160000
END:STANDARD
BEGIN:DAYLIGHT
TZOFFSETFROM:+1000
TZOFFSETTO:+1100
TZNAME:AEDT
DTSTART:20251004T160000
END:DAYLIGHT
BEGIN:STANDARD
TZOFFSETFROM:+1100
TZOFFSETTO:+1000
TZNAME:AEST
DTSTART:20260404T160000
END:STANDARD
BEGIN:DAYLIGHT
TZOFFSETFROM:+1000
TZOFFSETTO:+1100
TZNAME:AEDT
DTSTART:20261003T160000
END:DAYLIGHT
BEGIN:STANDARD
TZOFFSETFROM:+1100
TZOFFSETTO:+1000
TZNAME:AEST
DTSTART:20270403T160000
END:STANDARD
BEGIN:DAYLIGHT
TZOFFSETFROM:+1000
TZOFFSETTO:+1100
TZNAME:AEDT
DTSTART:20271002T160000
END:DAYLIGHT
END:VTIMEZONE
BEGIN:VEVENT
DTSTART;TZID=Australia/Melbourne:20251027T093000
DTEND;TZID=Australia/Melbourne:20251027T150000
DTSTAMP:20260425T001438
CREATED:20250821T061059Z
LAST-MODIFIED:20251020T223041Z
UID:3394-1761557400-1761577200@bohogs.org.au
SUMMARY:BOHOGS & BBUGS Rock Laboratory Testing Workshop
DESCRIPTION:BOHOGS & BBUGS are pleased to announce that it will be co-hosting a Rock Laboratory Testing Workshop. This workshop will provide a practical introduction to key laboratory testing methods of rocks\, with a particular focus on coal measures rocks and its application to coal mine geotechnical engineering. \nDate: Monday\, 27th October 2025 \nVenue: The University of Queensland\, St Lucia \nAgenda: \n\n9.30 AM to 12 PM – Theory Part #1\n12 PM to 12.30 PM – Lunch Break\n12.30 PM to 2 PM – Theory Part #2\n2 PM to 3 PM – Site visit to UQ rock testing laboratory\n\nOnline Event: \n🔗 Register For Online Event Here \nPresenters:\nTheory \nDr Kai Koosmen \nKai Koosmen is a Principal Geotechnical Engineer at PSM with over 13 years of experience. The majority of Kai’s work is on the design\, operation and risk management for open pit mining operations\, waste rock dumps and tailings storage facilities. \nKai started his career working in mine operations and study-based roles for a major mining house\, joining PSM in 2016 after undertaking his PhD research. Kai has worked on numerous mining and quarrying projects that span multiple commodities of varying geological and technical complexity. He currently serves as an external geotechnical advisor for several large open pit mines within Australia and has had significant involvement on major international projects\, including Ok Tedi (PNG)\, Lihir (PNG)\, Cerrejon (Colombia)\, Ban Houyaxai and Phu Kham (Laos). These roles have included deployments into site-based operations teams and major design studies. \nLab visit \nMr Sebastian Quintero Olaya \nCurrently working as a Senior Research Officer/Lab manager of the Geomechanics Engineering Centre lab at UQ. Currently in projects related to instrumentation and long term monitoring of drying and wetting cycles of large scale columns with tailings or soil. Over 5 years of experience testing mechanical\, physical and chemical properties of soil and tailings. Specific experiences in consolidation\, direct shear\, triaxial\, SWCC\, sensor instrumentation and characterization tests. \nDr Chenming Zhang \nDr Chenming Zhang is a specialist in monitoring and modelling hydrological processes in coastal/terrestrial groundwater systems and tailings storage facilities\, in particular the evaporation induced mass and heat transport in soil/tailings\, hydrogeochemical dynamics in aquifer systems and waste rock dumps. He has been developing IoT-based geotechnical and environmental instruments to monitor continuously and in real-time the weather\, soil and water conditions.
URL:https://bohogs.org.au/event/bohogs-bbugs-rock-laboratory-testing-workshop/
CATEGORIES:Event
END:VEVENT
BEGIN:VEVENT
DTSTART;TZID=Australia/Melbourne:20251127T120000
DTEND;TZID=Australia/Melbourne:20251127T180000
DTSTAMP:20260425T001438
CREATED:20250618T015049Z
LAST-MODIFIED:20251118T052807Z
UID:3370-1764244800-1764266400@bohogs.org.au
SUMMARY:BOHOGS End of Year Technical Forum & AGM
DESCRIPTION:BOHOGS will be hosting our final Technical Meeting for the year and AGM in Brisbane on Thursday\, 27th of November 2025. \nEXPRESSIONS OF INTEREST BOHOGS COMMITTEE 2026:\nfor more info regarding current vacancies and nomination details click here. \nDate:\nThursday\, 27th of November 2025 – 12.30 PM to 6 PM \nLocation:\nThe Sebel Brisbane Hotel\nCenter Albert / Charlotte St\, Brisbane City QLD 4000 \nAgenda: \n\n12:30 to 1:00 PM – Arrival / Sign in – Tea & Coffee\n1:00 to 1:30 PM – Annual General Meeting\n1:30 to 2:00 PM – Sache Aumua (BHP): Evaluating Buttress Performance Against Ongoing Creep\n2:00 to 2:30 PM – Kadek Hariyantha (Anglo American): Comparison of Interferometric Radar Data – Nano Radar vs. Slope Stability Radar\n2:30 to 3:00 PM – Break\n3:00 to 3:30 PM – Alex Duran (PSM): Runout Estimates for Footwall Failures\n3:30 to 4:00 PM – Lee Hellen (Kurloo) – GNSS as a Source of Truth: Complementing Technologies to Reveal Meaningful Ground Shifts\n4:00 PM onwards – Networking event\n\nRSVP:\nTo RSVP for the event\, please email Jiwoo Ahn (jiwoo.ahn (at) rocscience.com) by Friday 21st of November 2025. RSVP is only required for in-person attendance. \nREGISTER FOR ONLINE EVENT:\nIf you would like to attend the event online\, please register via the link below:\n🔗 Register For Online Event Here
URL:https://bohogs.org.au/event/bohogs-end-of-year-technical-forum-agm/
CATEGORIES:Event
END:VEVENT
BEGIN:VEVENT
DTSTART;TZID=Australia/Melbourne:20251211T140000
DTEND;TZID=Australia/Melbourne:20251211T170000
DTSTAMP:20260425T001438
CREATED:20250929T002449Z
LAST-MODIFIED:20251208T002304Z
UID:3475-1765461600-1765472400@bohogs.org.au
SUMMARY:BOHOGS Christmas Event (Brisbane)
DESCRIPTION:BOHOGS members\, get ready to celebrate! 🎉 BOHOGS is excited to host our End of Year Event in Brisbane on Thursday\, 11th December 2025! \nLet’s come together to reflect on an incredible year and look ahead to an even brighter one next year. \nA huge thank you to our amazing members and BOHOGS sponsors for your support throughout 2025. We can’t wait to see you there! \nDate:\nThursday 11th December 2025 – 2:00pm to 5:00pm. \nPlease be aware the event was bought forward to 2:00pm. \nVenue:\nRiverland\n167 Eagle St\, Brisbane City QLD 4000 \nRSVP:\nPlease RSVP to Gurshaan Virk (gurshaan.virk (at) bhp.com) by Wednesday the 10th of December.
URL:https://bohogs.org.au/event/bohogs-christmas-event-brisbane/
END:VEVENT
BEGIN:VEVENT
DTSTART;TZID=Australia/Melbourne:20260325T163000
DTEND;TZID=Australia/Melbourne:20260325T190000
DTSTAMP:20260425T001438
CREATED:20260219T192340Z
LAST-MODIFIED:20260219T192420Z
UID:3569-1774456200-1774465200@bohogs.org.au
SUMMARY:IDS Platinum Plus Sponsor Event
DESCRIPTION:The IDS GeoRadar team are pleased to invite you to the official launch of our new slope stability radar\, ArcSAR Neo! The ArcSAR Neo is an exciting addition to our portfolio\, delivering unmatched data clarity through a new radar sensor capable of true 3D acquisition. \nKey benefits of the Neo include full 3D spatial resolution for clearer data\, a 360° HDR camera synchronised with radar data\, and an extended monitoring range of up to 6 km for earlier detection of slope failures. Designed for ease of use and flexibility\, Neo offers super-fast deployment\, an intuitive user interface\, three configurable specifications to suit any monitoring scenario\, and flexible hybrid or 100% battery powered options. \nPlease join us for a casual event where we will show you our new product\, share insights into its development\, and demonstrate how the next generation radar can support your business objectives. The event will also provide an opportunity to connect with our team\, and network with industry peers. \nEvent Details:\nDate: Wednesday 25th March\nTime: 4.30pm – 7.00pm\nLocation: Rivershed\, Howard Smith Wharves\, 5 Boundary St (next to Felons Brewery)\nFood & beverages will be provided.\nDress Code: Smart Casual\nRSVP: Kindly RSVP by Friday 20th March by replying to this invitation or registering via the link here: IDS GeoRadar ArcSAR Neo Launch – Registration \nWe look forward to welcoming you.\nWarm regards\,\nThe IDS GeoRadar Brisbane Team
URL:https://bohogs.org.au/event/ids-platinum-plus-sponsor-event/
CATEGORIES:Event
END:VEVENT
BEGIN:VEVENT
DTSTART;VALUE=DATE:20260423
DTEND;VALUE=DATE:20260424
DTSTAMP:20260425T001438
CREATED:20260317T231407Z
LAST-MODIFIED:20260422T035944Z
UID:3575-1776902400-1776988799@bohogs.org.au
SUMMARY:BOHOGS Technical Meeting (Brisbane)
DESCRIPTION:BOHOGS will be hosting a Technical Meeting in Brisbane on Thursday the 23rd of April 2026. \nCall for Technical Presentations:\nIf you have a technical presentation you’d like to give at this meeting or late on in the year\, please send an email to admin@bohogs.org.au or get in touch with a committee member. \nDate:\nThursday April 23rd\, 2026 – 4:00 – 7:30pm \n\n\nLocation:\nStory Bridge Hotel\, Martini Bar\n200 Main St\, Kangaroo Point QLD 4169 \nAgenda: \n\n\n4:00 – 4:30 Arrival and sign in\n4:30 – 4:50 Dr Bharath Belle (Mines Department) Industry update\n4:50 – 5:10 Davide Guccione (ACARP Presentation) Low Cost Terrestrial Stereo-Pair Photogrammetric Monitoring System for Highly Hazardous Areas\n5:10 – 5:20 Short Break\n5:20 – 5:40 Tim Cartledge (CM&G) Floor domain study for lowwall steepening (Moorvale Mine)\n5:40 – 6:00 Nathan Ward (Encompass Mining) Evaluating geo-hazard critical controls utilising drone based photogrammetry\n6:00 – 7:30 Food and Drinks\n\nRSVP:\nSee BOHOGS email for RSVP details. \nOnline Meeting:\nSee email from BOHOGS for online meeting details.
URL:https://bohogs.org.au/event/bohogs-technical-meeting-brisbane-4/
CATEGORIES:Event
END:VEVENT
BEGIN:VEVENT
DTSTART;VALUE=DATE:20260521
DTEND;VALUE=DATE:20260522
DTSTAMP:20260425T001438
CREATED:20260410T031356Z
LAST-MODIFIED:20260410T031356Z
UID:3583-1779321600-1779407999@bohogs.org.au
SUMMARY:ACARP Day Brisbane
DESCRIPTION:BBUGS is pleased to announce the upcoming ACARP Day in Brisbane on Thursday 21st May 2026. \nThis event will bring together industry professionals and researchers to share insights\, outcomes and lessons from recently completed and ongoing ACARP projects. Please note the date and mark this event in your calendar! \nWe are currently seeking presentations from researchers and industry partners involved in ACARP-funded work. If you have a project that has recently been completed\, or one that is currently in progress\, we would welcome the opportunity to hear about the research and developments taking place. \nNetworking drinks and canapés will follow the presentations. \nFurther details and a formal program will be communicated in the coming weeks. \nLocation: The Sebel\, 95 Charlotte St Brisbane
URL:https://bohogs.org.au/event/acarp-day-brisbane/
END:VEVENT
END:VCALENDAR