BEGIN:VCALENDAR
VERSION:2.0
PRODID:-//BOHOGS - ECPv6.15.12.2//NONSGML v1.0//EN
CALSCALE:GREGORIAN
METHOD:PUBLISH
X-WR-CALNAME:BOHOGS
X-ORIGINAL-URL:https://bohogs.org.au
X-WR-CALDESC:Events for BOHOGS
REFRESH-INTERVAL;VALUE=DURATION:PT1H
X-Robots-Tag:noindex
X-PUBLISHED-TTL:PT1H
BEGIN:VTIMEZONE
TZID:Australia/Melbourne
BEGIN:STANDARD
TZOFFSETFROM:+1100
TZOFFSETTO:+1000
TZNAME:AEST
DTSTART:20200404T160000
END:STANDARD
BEGIN:DAYLIGHT
TZOFFSETFROM:+1000
TZOFFSETTO:+1100
TZNAME:AEDT
DTSTART:20201003T160000
END:DAYLIGHT
BEGIN:STANDARD
TZOFFSETFROM:+1100
TZOFFSETTO:+1000
TZNAME:AEST
DTSTART:20210403T160000
END:STANDARD
BEGIN:DAYLIGHT
TZOFFSETFROM:+1000
TZOFFSETTO:+1100
TZNAME:AEDT
DTSTART:20211002T160000
END:DAYLIGHT
BEGIN:STANDARD
TZOFFSETFROM:+1100
TZOFFSETTO:+1000
TZNAME:AEST
DTSTART:20220402T160000
END:STANDARD
BEGIN:DAYLIGHT
TZOFFSETFROM:+1000
TZOFFSETTO:+1100
TZNAME:AEDT
DTSTART:20221001T160000
END:DAYLIGHT
BEGIN:STANDARD
TZOFFSETFROM:+1100
TZOFFSETTO:+1000
TZNAME:AEST
DTSTART:20230401T160000
END:STANDARD
BEGIN:DAYLIGHT
TZOFFSETFROM:+1000
TZOFFSETTO:+1100
TZNAME:AEDT
DTSTART:20230930T160000
END:DAYLIGHT
END:VTIMEZONE
BEGIN:VTIMEZONE
TZID:UTC
BEGIN:STANDARD
TZOFFSETFROM:+0000
TZOFFSETTO:+0000
TZNAME:UTC
DTSTART:20200101T000000
END:STANDARD
END:VTIMEZONE
BEGIN:VEVENT
DTSTART;VALUE=DATE:20220825
DTEND;VALUE=DATE:20220826
DTSTAMP:20260425T212251
CREATED:20220728T212059Z
LAST-MODIFIED:20220728T212501Z
UID:2612-1661385600-1661471999@bohogs.org.au
SUMMARY:BBUGS ACARP Presentations Day & Dinner - Moranbah
DESCRIPTION:BBUGS is proud to announce that this year’s ACARP technical presentations day will be held on Thursday 25th August 2022 at the Moranbah Workers Club. \nMore details will follow closer to the date but for now\, we ask you to RSVP if you are interested in attending the BBUGS-hosted dinner that will occur in the evening of Thursday 25th August. \nPlease email your RSVP to admin(at)bbugs.org.au.
URL:https://bohogs.org.au/event/bbugs-acarp-presentations-day-dinner-moranbah/
END:VEVENT
BEGIN:VEVENT
DTSTART;VALUE=DATE:20220526
DTEND;VALUE=DATE:20220527
DTSTAMP:20260425T212251
CREATED:20220615T040838Z
LAST-MODIFIED:20220615T040838Z
UID:2588-1653523200-1653609599@bohogs.org.au
SUMMARY:BOHOGS Technical Meeting and Site Visit - Dawson Mine
DESCRIPTION:BOHOGS will be hosting its first site visit and technical presentation at Anglo American’s Dawson Mine. Visitor numbers are limited so get in early to secure your spot. \nPlease also note that site requires visitors to be vaccinated. \nDATE:\nThursday 26th of May 2022 \nLOCATION:\nAnglo American’s Dawson Mine\nDawson Highway\, Moura\, QLD\, 4718 \nAGENDA:\n10:00am – Visitors arrive and complete RAT test at the Covid Tent\n10:30am – Sign onto site visitors register\n10:45am – Technical Presentation (Okano Meeting Room)\n12:00pm – Pit tour – Pits 6-8 and 9-12\n2:30pm – Sign off site visitors register and leave site \nAbout Dawson Mine:\nLocated at the southern end of the Bowen Basin\, Dawson Mine is located a short drive from the town of Moura\, QLD. It is approximately 2 hour drive from Rockhampton or Gladstone airport.
URL:https://bohogs.org.au/event/bohogs-technical-meeting-and-site-visit-dawson-mine/
END:VEVENT
BEGIN:VEVENT
DTSTART;TZID=Australia/Melbourne:20220401T130000
DTEND;TZID=Australia/Melbourne:20220401T180000
DTSTAMP:20260425T212251
CREATED:20220307T063010Z
LAST-MODIFIED:20220321T055033Z
UID:2572-1648818000-1648836000@bohogs.org.au
SUMMARY:BOHOGS Technical Meeting Brisbane
DESCRIPTION:BOHOGS will be hosting a Technical Meeting in Brisbane on Friday the 1st of April 2022. \nThe technical meeting is planned for 1-5pm\, with social drinks after the event. \nDATE: \nFriday 1st of April 2022 \nLOCATION: \nSofitel Brisbane Central – St Germain Room \n249 Turbot Street\, Brisbane 4000 \nAGENDA: \n\nYilin Gui – QUT – “Geotechnics Under Extreme”\nPaul Davies – GroundProbe – “Technology Update for Tailings Dam Monitoring”\nDavid Guccione – University of Newcastle – “Fragmentation of rocks upon impact in the context of rockfall”\n4th Speaker TBC\n\nEvent planned for 1-5pm\, with social drinks concluding the event. \nIf you are wanting to give a presentation at this BOHOGS event\, please email Steve Gale (sgale (at) galetechnics.com.au). \nRSVP: \nTo RSVP for the event\, please email Steve Gale (sgale (at) galetechnics.com.au) before Tuesday the 29th March 2022.
URL:https://bohogs.org.au/event/bohogs-technical-meeting-brisbane/
CATEGORIES:Event
END:VEVENT
BEGIN:VEVENT
DTSTART;VALUE=DATE:20220311
DTEND;VALUE=DATE:20220312
DTSTAMP:20260425T212251
CREATED:20220225T014524Z
LAST-MODIFIED:20220225T014636Z
UID:2569-1646956800-1647043199@bohogs.org.au
SUMMARY:UQ Engineering Careers Fair - BOHOGS Stall
DESCRIPTION:BOHOGS are hosting a stall at the 2022 UQ Engineering Careers Fair on March 11\, 2022. \nMore details to come\, once confirmed.
URL:https://bohogs.org.au/event/uq-engineering-careers-fair-bohogs-stall/
CATEGORIES:Event
END:VEVENT
BEGIN:VEVENT
DTSTART;VALUE=DATE:20211201
DTEND;VALUE=DATE:20211202
DTSTAMP:20260425T212251
CREATED:20160316T024710Z
LAST-MODIFIED:20211129T085953Z
UID:610-1638316800-1638403199@bohogs.org.au
SUMMARY:BOHOGS Suppliers Technical Day ONLINE
DESCRIPTION:Please note the change in date. Following feedback and availability of practitioners and sponsors\, we have decided to move this year’s event online to allow greater participation and reach the BOHOGS members who are currently restricted for travel. \nThe annual BOHOGS Suppliers Technical Day will be held on Wednesday the 1st of December. This meeting is now an online event. \nThis will be an online meeting where suppliers/sponsors will present technical mining case studies and data related to their products or services. \nBOHOGS SUPPLIERS:\nPlease register your interest to give a presentation at the Suppliers Technical Day by contacting Steven Gale (sgale (at) galetechnics.com.au) with the Presentation Title and Presenter by Tuesday November 30th 2021. \nBOHOGS sponsors will be prioritised for presentations. \nDATE:\nWednesday the 1st December\, 2021 \n1-5pm (Brisbane time – AEST) \nAGENDA:\n1.00 – 1:15pm – Introduction and BOHOGS AGM\n1:15 – 2.00pm – Rocscience\n2.00 – 2.30pm – IDS\n2.30 – 3.00pm – Groundprobe – Geological Response on a Tailings Dam during Control Blast\n3.00 – 3.30pm – TagaSoft – TSLOPE 3D Slope Stability Analysis Update\n3.30 – 4:15pm – Glen Guy/Bob Craig – Ramp 5S a 3D design success story \nLOCATION: \nOnline Event\, see BOHOGS email for Webex details. \nRSVP:\nPlease RSVP to Steven Gale (sgale (at) galetechnics.com.au) by Tuesday November 30th 2021.
URL:https://bohogs.org.au/event/bohogs-suppliers-technical-day-online-event/
CATEGORIES:Event
END:VEVENT
BEGIN:VEVENT
DTSTART;TZID=Australia/Melbourne:20211104T150000
DTEND;TZID=Australia/Melbourne:20211104T160000
DTSTAMP:20260425T212251
CREATED:20211022T051515Z
LAST-MODIFIED:20211022T051821Z
UID:2540-1636038000-1636041600@bohogs.org.au
SUMMARY:BOHOGS Online Technical Meeting - Machine Learning
DESCRIPTION:BOHOGS is hosting an online technical meeting via webex on Thursday the 4th November 2021. Jimmy Li from the The University of Queensland will be presenting “Machine Learning for Rock Properties Characterisation”. \nCPD hours will be available. \nDATE:\nThursday 4th November – 3:00-4:00pm (BNE time) \nAGENDA:\nJimmy Li – Machine Learning for Rock Properties Characterisation \nWEBEX MEETING LINK:\nPlease refer to BOHOGS email that was sent on the 22/10/21 for webex link and dial in details.
URL:https://bohogs.org.au/event/bohogs-online-technical-meeting-machine-learning-for-rock-properties-characterisation/
END:VEVENT
BEGIN:VEVENT
DTSTART;TZID=Australia/Melbourne:20211027T180000
DTEND;TZID=Australia/Melbourne:20211027T210000
DTSTAMP:20260425T212251
CREATED:20211019T035651Z
LAST-MODIFIED:20211022T045739Z
UID:2532-1635357600-1635368400@bohogs.org.au
SUMMARY:BOHOGS Technical Presentation Evening
DESCRIPTION:John Simmons will be re-sharing his previous presentation on ‘Recovering equipment post failure’ on the evening of Wednesday the 27th of October in Moranbah (Black Nugget Hotel – 1971 Room). \nThis is a closed event for geotechnical practitioners only due to the content being presented.\nCPD hours will be available. \nThere will be light refreshments provided. \nDATE:\nWednesday the 27th October\, 2021 – Evening session (6pm to 9pm) \nAGENDA:\nJohn Simmons – Recovering equipment post failure \nLOCATION:\nBlack Nugget Hotel (1971 Room)\,  Moranbah \nRSVP:\nPlease RSVP to Gurshaan Virk (gurshaan.virk (at) bhp.com) by COB Monday the 25th of October.
URL:https://bohogs.org.au/event/bohogs-technical-presentation-evening/
CATEGORIES:Event
END:VEVENT
END:VCALENDAR