BEGIN:VCALENDAR
VERSION:2.0
PRODID:-//BOHOGS - ECPv6.15.12.2//NONSGML v1.0//EN
CALSCALE:GREGORIAN
METHOD:PUBLISH
X-ORIGINAL-URL:https://bohogs.org.au
X-WR-CALDESC:Events for BOHOGS
REFRESH-INTERVAL;VALUE=DURATION:PT1H
X-Robots-Tag:noindex
X-PUBLISHED-TTL:PT1H
BEGIN:VTIMEZONE
TZID:Australia/Melbourne
BEGIN:STANDARD
TZOFFSETFROM:+1100
TZOFFSETTO:+1000
TZNAME:AEST
DTSTART:20240406T160000
END:STANDARD
BEGIN:DAYLIGHT
TZOFFSETFROM:+1000
TZOFFSETTO:+1100
TZNAME:AEDT
DTSTART:20241005T160000
END:DAYLIGHT
BEGIN:STANDARD
TZOFFSETFROM:+1100
TZOFFSETTO:+1000
TZNAME:AEST
DTSTART:20250405T160000
END:STANDARD
BEGIN:DAYLIGHT
TZOFFSETFROM:+1000
TZOFFSETTO:+1100
TZNAME:AEDT
DTSTART:20251004T160000
END:DAYLIGHT
BEGIN:STANDARD
TZOFFSETFROM:+1100
TZOFFSETTO:+1000
TZNAME:AEST
DTSTART:20260404T160000
END:STANDARD
BEGIN:DAYLIGHT
TZOFFSETFROM:+1000
TZOFFSETTO:+1100
TZNAME:AEDT
DTSTART:20261003T160000
END:DAYLIGHT
END:VTIMEZONE
BEGIN:VEVENT
DTSTART;TZID=Australia/Melbourne:20250725T123000
DTEND;TZID=Australia/Melbourne:20250725T180000
DTSTAMP:20260425T013908
CREATED:20250530T213008Z
LAST-MODIFIED:20250723T070252Z
UID:3358-1753446600-1753466400@bohogs.org.au
SUMMARY:BOHOGS Technical Meeting - Brisbane
DESCRIPTION:BOHOGS will be hosting a Technical Meeting in Brisbane on Friday\, 25th of July 2025. \nDate:\nFriday\, 25th of July 2025 – 12:30 to  6:00 PM \nLocation:\nThe Sebel Brisbane Hotel\nCenter Albert / Charlotte St\, Brisbane City QLD 4000 \nAgenda: \n\n12:30 to 1:00 PM – Arrival / Sign in – Tea & Coffee\n1:00 to 1:30 PM – Lewis Harmsworth (Stanmore): The effects of defect orientation and subfloor rockmass strength on lowwall stability\n1:30 to 2:00 PM – Greg Kennedy (PSM): Geotechnical Management and Challenges\, Callide Coal Mine\n2:00 to 2:30 PM – Sache Aumua (BMA): Evaluating Buttress Performance Against Ongoing Creep\n2:30 to 3:00 PM: Break\n3:00 to 3:30 PM: Marc Elmouttie (CSIRO): Multi-sensor approaches for slope deformation and rockfall monitoring\n3:30 to 4:00 PM: Kobi Song (Red Earth Engineering): Planning and executing a comparative site investigation of coal tailings\n4:00 PM onwards: Networking event\n\nRSVP:\nIt isn’t too late to RSVP for this Friday’s event\, please email Jiwoo Ahn (jiwoo.ahn (at) rocscience.com). In person RSVP is only required. \nOnline Meeting Link:\nOnline meeting details will be sent three days before the event to all BOHOGS members via email.
URL:https://bohogs.org.au/event/bohogs-technical-meeting-brisbane-3/
CATEGORIES:Event
END:VEVENT
END:VCALENDAR