BEGIN:VCALENDAR
VERSION:2.0
PRODID:-//BOHOGS - ECPv6.15.12.2//NONSGML v1.0//EN
CALSCALE:GREGORIAN
METHOD:PUBLISH
X-ORIGINAL-URL:https://bohogs.org.au
X-WR-CALDESC:Events for BOHOGS
REFRESH-INTERVAL;VALUE=DURATION:PT1H
X-Robots-Tag:noindex
X-PUBLISHED-TTL:PT1H
BEGIN:VTIMEZONE
TZID:Australia/Melbourne
BEGIN:STANDARD
TZOFFSETFROM:+1100
TZOFFSETTO:+1000
TZNAME:AEST
DTSTART:20250405T160000
END:STANDARD
BEGIN:DAYLIGHT
TZOFFSETFROM:+1000
TZOFFSETTO:+1100
TZNAME:AEDT
DTSTART:20251004T160000
END:DAYLIGHT
BEGIN:STANDARD
TZOFFSETFROM:+1100
TZOFFSETTO:+1000
TZNAME:AEST
DTSTART:20260404T160000
END:STANDARD
BEGIN:DAYLIGHT
TZOFFSETFROM:+1000
TZOFFSETTO:+1100
TZNAME:AEDT
DTSTART:20261003T160000
END:DAYLIGHT
BEGIN:STANDARD
TZOFFSETFROM:+1100
TZOFFSETTO:+1000
TZNAME:AEST
DTSTART:20270403T160000
END:STANDARD
BEGIN:DAYLIGHT
TZOFFSETFROM:+1000
TZOFFSETTO:+1100
TZNAME:AEDT
DTSTART:20271002T160000
END:DAYLIGHT
END:VTIMEZONE
BEGIN:VEVENT
DTSTART;TZID=Australia/Melbourne:20260325T163000
DTEND;TZID=Australia/Melbourne:20260325T190000
DTSTAMP:20260424T134406
CREATED:20260219T192340Z
LAST-MODIFIED:20260219T192420Z
UID:3569-1774456200-1774465200@bohogs.org.au
SUMMARY:IDS Platinum Plus Sponsor Event
DESCRIPTION:The IDS GeoRadar team are pleased to invite you to the official launch of our new slope stability radar\, ArcSAR Neo! The ArcSAR Neo is an exciting addition to our portfolio\, delivering unmatched data clarity through a new radar sensor capable of true 3D acquisition. \nKey benefits of the Neo include full 3D spatial resolution for clearer data\, a 360° HDR camera synchronised with radar data\, and an extended monitoring range of up to 6 km for earlier detection of slope failures. Designed for ease of use and flexibility\, Neo offers super-fast deployment\, an intuitive user interface\, three configurable specifications to suit any monitoring scenario\, and flexible hybrid or 100% battery powered options. \nPlease join us for a casual event where we will show you our new product\, share insights into its development\, and demonstrate how the next generation radar can support your business objectives. The event will also provide an opportunity to connect with our team\, and network with industry peers. \nEvent Details:\nDate: Wednesday 25th March\nTime: 4.30pm – 7.00pm\nLocation: Rivershed\, Howard Smith Wharves\, 5 Boundary St (next to Felons Brewery)\nFood & beverages will be provided.\nDress Code: Smart Casual\nRSVP: Kindly RSVP by Friday 20th March by replying to this invitation or registering via the link here: IDS GeoRadar ArcSAR Neo Launch – Registration \nWe look forward to welcoming you.\nWarm regards\,\nThe IDS GeoRadar Brisbane Team
URL:https://bohogs.org.au/event/ids-platinum-plus-sponsor-event/
CATEGORIES:Event
END:VEVENT
END:VCALENDAR